BEGIN:VCALENDAR
VERSION:2.0
PRODID:-//古今亭志ん橋〜夢の浮橋〜 - ECPv6.15.13.1//NONSGML v1.0//EN
CALSCALE:GREGORIAN
METHOD:PUBLISH
X-WR-CALNAME:古今亭志ん橋〜夢の浮橋〜
X-ORIGINAL-URL:https://shinmatsublog.com
X-WR-CALDESC:古今亭志ん橋〜夢の浮橋〜 のイベント
REFRESH-INTERVAL;VALUE=DURATION:PT1H
X-Robots-Tag:noindex
X-PUBLISHED-TTL:PT1H
BEGIN:VTIMEZONE
TZID:Asia/Tokyo
BEGIN:STANDARD
TZOFFSETFROM:+0900
TZOFFSETTO:+0900
TZNAME:JST
DTSTART:20200101T000000
END:STANDARD
END:VTIMEZONE
BEGIN:VEVENT
DTSTART;TZID=Asia/Tokyo:20241103T020000
DTEND;TZID=Asia/Tokyo:20241103T153000
DTSTAMP:20260423T070800
CREATED:20241031T235747Z
LAST-MODIFIED:20241101T000013Z
UID:4145-1730599200-1730647800@shinmatsublog.com
SUMMARY:11/３(日)善通寺　ZENキューブ
DESCRIPTION:
URL:https://shinmatsublog.com/event/11-%ef%bc%93%e6%97%a5%e5%96%84%e9%80%9a%e5%af%ba%e5%9b%b3%e6%9b%b8%e9%a4%a8/
CATEGORIES:落語会
ATTACH;FMTTYPE=image/jpeg:https://shinmatsublog.com/wp-content/uploads/2024/11/img_5707-1.jpg
END:VEVENT
BEGIN:VEVENT
DTSTART;TZID=Asia/Tokyo:20240929T140000
DTEND;TZID=Asia/Tokyo:20240929T163000
DTSTAMP:20260423T070800
CREATED:20230415T095255Z
LAST-MODIFIED:20240821T160546Z
UID:2693-1727618400-1727627400@shinmatsublog.com
SUMMARY:9/29（日）お寺de落語in赤羽
DESCRIPTION:13：30会場\n14：00開演\n出演　柳家花いち、古今亭志ん橋、入船亭遊京\n料金　予約2000円　当日2300円\n会場　大満寺　東京都北区岩渕町35-7　（赤羽岩淵駅3番出口からすぐ）\n予約　871official@gmail.com/070-8322-4454（SMS/留守番対応）
URL:https://shinmatsublog.com/event/5-27%e5%9c%9f%e7%ac%ac19%e5%9b%9e%e3%81%8a%e5%af%bade%e8%90%bd%e8%aa%9ein%e8%b5%a4%e7%be%bd/
CATEGORIES:落語会
END:VEVENT
BEGIN:VEVENT
DTSTART;TZID=Asia/Tokyo:20240829T183000
DTEND;TZID=Asia/Tokyo:20240829T203000
DTSTAMP:20260423T070800
CREATED:20230410T015017Z
LAST-MODIFIED:20240731T145933Z
UID:2680-1724956200-1724963400@shinmatsublog.com
SUMMARY:8/29(木)古今亭志ん雀独演会
DESCRIPTION:18時30開演\n池袋演芸場\n前売り2500円\n当日　2800円 \n志ん雀「妲己のお百」ほか
URL:https://shinmatsublog.com/event/4-26%e6%b0%b4%e5%8f%a4%e4%bb%8a%e4%ba%ad%e5%bf%97%e3%82%93%e9%9b%80%e7%8b%ac%e6%bc%94%e4%bc%9a/
CATEGORIES:落語会
ATTACH;FMTTYPE=image/jpeg:https://shinmatsublog.com/wp-content/uploads/2024/07/img_5121-1.jpg
END:VEVENT
BEGIN:VEVENT
DTSTART;TZID=Asia/Tokyo:20240627T140000
DTEND;TZID=Asia/Tokyo:20240627T160000
DTSTAMP:20260423T070800
CREATED:20240616T035112Z
LAST-MODIFIED:20240616T035112Z
UID:3449-1719496800-1719504000@shinmatsublog.com
SUMMARY:6/27(木)あさがや落語
DESCRIPTION:開演　14：00\n会場　阿佐谷図書館 \nお問い合わせ　阿佐谷図書館　☎03-5373-1811
URL:https://shinmatsublog.com/event/6-27%e6%9c%a8%e3%81%82%e3%81%95%e3%81%8c%e3%82%84%e8%90%bd%e8%aa%9e/
CATEGORIES:落語会
ATTACH;FMTTYPE=image/jpeg:https://shinmatsublog.com/wp-content/uploads/2024/06/img_4964-1.jpg
END:VEVENT
BEGIN:VEVENT
DTSTART;TZID=Asia/Tokyo:20240620T140000
DTEND;TZID=Asia/Tokyo:20240620T160000
DTSTAMP:20260423T070800
CREATED:20240609T065228Z
LAST-MODIFIED:20240609T065228Z
UID:3434-1718892000-1718899200@shinmatsublog.com
SUMMARY:6/20(木)第83回新横浜コットン亭
DESCRIPTION:開演　14：00\n会場名:マルハチコットンスクエア 神奈川県横浜市港北区新横浜3-8-12　丸八新横浜ビルB1\n出演者 :古今亭志ん松　三遊亭歌彦\n電話予約 問い合わせ:045-475-4208
URL:https://shinmatsublog.com/event/6-20%e6%9c%a8%e7%ac%ac83%e5%9b%9e%e6%96%b0%e6%a8%aa%e6%b5%9c%e3%82%b3%e3%83%83%e3%83%88%e3%83%b3%e4%ba%ad/
CATEGORIES:落語会
ATTACH;FMTTYPE=image/jpeg:https://shinmatsublog.com/wp-content/uploads/2024/06/img_4976-1.jpg
END:VEVENT
BEGIN:VEVENT
DTSTART;TZID=Asia/Tokyo:20240612T190000
DTEND;TZID=Asia/Tokyo:20240612T210000
DTSTAMP:20260423T070800
CREATED:20240609T070713Z
LAST-MODIFIED:20240609T070713Z
UID:3437-1718218800-1718226000@shinmatsublog.com
SUMMARY:6/12(水)スペースエコー寄席
DESCRIPTION:開演　19：00\n会場　スペースエコー（渋谷区東３－１８－３　エコービル１階）\n出演　古今亭志ん雀　古今亭志ん松\n前売り、当日ともに2000円
URL:https://shinmatsublog.com/event/6-12%e6%b0%b4%e3%82%b9%e3%83%9a%e3%83%bc%e3%82%b9%e3%82%a8%e3%82%b3%e3%83%bc%e5%af%84%e5%b8%ad/
CATEGORIES:落語会
ATTACH;FMTTYPE=image/jpeg:https://shinmatsublog.com/wp-content/uploads/2024/06/img_4975-1.jpg
END:VEVENT
BEGIN:VEVENT
DTSTART;TZID=Asia/Tokyo:20240525T173000
DTEND;TZID=Asia/Tokyo:20240525T200000
DTSTAMP:20260423T070800
CREATED:20240211T174118Z
LAST-MODIFIED:20240516T074849Z
UID:3112-1716658200-1716667200@shinmatsublog.com
SUMMARY:5/25(土)☆第三回　馬桜実験劇場 =創意と伝承＝
DESCRIPTION:☆第三回　馬桜実験劇場\n　　　=創意と伝承＝\n時：２０２４年５月２５日（土曜日）\n　　１７時１０分開場・１７時３０分開演・１９時４０分終演\n所：落語協会二階\n　　　会場問い合わせ：０３－３８３３－８５６３　落語協会\n木戸：２０００円（前売り・当日共）　３０名定員制\nメール予約：baorin@reireisha.com\n番組\n｜、宿題三題噺　鈴々舎　馬　桜\n｜、富士の雪　　林　家　たたみ\n｜、真田小僧　　鈴々舎　馬　桜\n｜、明　烏　　　古今亭　志ん松\n｜、創作落語・神隠し　鈴々舎　馬　桜
URL:https://shinmatsublog.com/event/3-3%e6%97%a5%e2%98%86%e9%9b%9b%e7%a5%ad%e3%81%ab%e7%94%b7%e5%ad%90%e4%bc%9a%ef%bc%9d%e3%81%8a%e3%81%98%e3%81%95%e3%82%93%e9%81%94%e3%81%ae%e8%90%bd%e8%aa%9e%e4%bc%9a%ef%bc%9d/
CATEGORIES:落語会
END:VEVENT
BEGIN:VEVENT
DTSTART;TZID=Asia/Tokyo:20240523T183000
DTEND;TZID=Asia/Tokyo:20240523T210000
DTSTAMP:20260423T070800
CREATED:20240408T021807Z
LAST-MODIFIED:20240408T021850Z
UID:3273-1716489000-1716498000@shinmatsublog.com
SUMMARY:5/23(木)第9回古今亭文菊の会
DESCRIPTION:18：30開演\nお問い合わせ\nオフイスマツバ　０５０－３４９７－５５００\nrakugoyoyaku@yahoo.co.jp \n詳細はこちら\n落語協会ホームページより
URL:https://shinmatsublog.com/event/5-23%e6%9c%a8%e7%ac%ac9%e5%9b%9e%e5%8f%a4%e4%bb%8a%e4%ba%ad%e6%96%87%e8%8f%8a%e3%81%ae%e4%bc%9a/
CATEGORIES:落語会
END:VEVENT
BEGIN:VEVENT
DTSTART;TZID=Asia/Tokyo:20240521T183000
DTEND;TZID=Asia/Tokyo:20240521T200000
DTSTAMP:20260423T070800
CREATED:20210530T094511Z
LAST-MODIFIED:20240408T021447Z
UID:865-1716316200-1716321600@shinmatsublog.com
SUMMARY:5/21(火)　第139回ラゾーナ寄席
DESCRIPTION:18：30開演 \n詳細はこちらから\nラゾーナ寄席HP
URL:https://shinmatsublog.com/event/6-15%e3%80%80%e3%83%a9%e3%82%be%e3%83%bc%e3%83%8a%e5%af%84%e5%b8%ad/
CATEGORIES:落語会
END:VEVENT
BEGIN:VEVENT
DTSTART;TZID=Asia/Tokyo:20240505T140000
DTEND;TZID=Asia/Tokyo:20240505T180000
DTSTAMP:20260423T070800
CREATED:20220608T021434Z
LAST-MODIFIED:20240408T021042Z
UID:1922-1714917600-1714932000@shinmatsublog.com
SUMMARY:5/5(日)横浜にぎわい座寄席
DESCRIPTION:14：00開演 \n詳細はこちらより\nにぎわい座HP
URL:https://shinmatsublog.com/event/7-3%e6%97%a5%e6%a8%aa%e6%b5%9c%e3%81%ab%e3%81%8e%e3%82%8f%e3%81%84%e5%ba%a7%e5%af%84%e5%b8%ad/
CATEGORIES:落語会
ATTACH;FMTTYPE=image/jpeg:https://shinmatsublog.com/wp-content/uploads/2022/06/6ad4eba8b9b9dc34d8aa6461b5a88ee5.jpg
END:VEVENT
BEGIN:VEVENT
DTSTART;TZID=Asia/Tokyo:20240120T140000
DTEND;TZID=Asia/Tokyo:20240120T170000
DTSTAMP:20260423T070800
CREATED:20230512T145043Z
LAST-MODIFIED:20231128T002517Z
UID:2707-1705759200-1705770000@shinmatsublog.com
SUMMARY:1/20(土)第236回朝日名人会
DESCRIPTION:公演日:2023年6月17日（土）\n開演時間:14：00(開場 13：15）\nチケット:発売中\n価格(税込):全席指定：4\,500円 \n■出演者・演目\n古今亭志ん松　『厩火事』\n三遊亭歌武蔵　『家見舞』\n入船亭扇遊　　『文違い』\n　― 仲入り(25分) ―\n古今亭志ん輔　『刀屋』 \nチケット取り扱い\n朝日ホール・チケットセンター（オペレーター対応）\nTel：03-3267-9990（日・祝除く　10：00～18：00）\nWeb販売（登録無料）\nhttps://asahihall-ticket.jp/entry?user=csas&act=230617\nチケットぴあ\nＰコード 518-742\nhttps://w.pia.jp/t/asahimeizinkai/
URL:https://shinmatsublog.com/event/6-17%e5%9c%9f%e6%9c%9d%e6%97%a5%e5%90%8d%e4%ba%ba%e4%bc%9a/
CATEGORIES:落語会
ATTACH;FMTTYPE=image/jpeg:https://shinmatsublog.com/wp-content/uploads/2023/11/img_4530-1.jpg
END:VEVENT
BEGIN:VEVENT
DTSTART;TZID=Asia/Tokyo:20240108T130000
DTEND;TZID=Asia/Tokyo:20240108T150000
DTSTAMP:20260423T070800
CREATED:20230106T063340Z
LAST-MODIFIED:20231128T001533Z
UID:2406-1704718800-1704726000@shinmatsublog.com
SUMMARY:1/8(日)我孫子市民プラザ　今年も春から縁起がいいやい
DESCRIPTION:出演　三遊亭志う歌　風藤松原　古今亭志ん松　隅田川わたし\n開場12：40\n開演13：00\n会場　我孫子市民プラザ多目的ホール\n木戸銭　前売り1000円　当日1200円\n問い合わせ　04-7183-2111
URL:https://shinmatsublog.com/event/1-8%e6%97%a5%e6%88%91%e5%ad%ab%e5%ad%90%e5%b8%82%e6%b0%91%e3%83%97%e3%83%a9%e3%82%b6%e3%80%80%e4%bb%8a%e5%b9%b4%e3%82%82%e6%98%a5%e3%81%8b%e3%82%89%e7%b8%81%e8%b5%b7%e3%81%8c%e3%81%84%e3%81%84/
CATEGORIES:落語会
ATTACH;FMTTYPE=image/jpeg:https://shinmatsublog.com/wp-content/uploads/2023/11/img_4519-1.jpg
END:VEVENT
BEGIN:VEVENT
DTSTART;TZID=Asia/Tokyo:20231102T190000
DTEND;TZID=Asia/Tokyo:20231102T210000
DTSTAMP:20260423T070800
CREATED:20230927T104010Z
LAST-MODIFIED:20230927T104224Z
UID:2997-1698951600-1698958800@shinmatsublog.com
SUMMARY:雛菊勉強会vol.9
DESCRIPTION:19時開演\n木戸1500円\n場　会koenji HAKO \n予約　www.noraya-yose.com\n     090-4240-0852
URL:https://shinmatsublog.com/event/%e9%9b%9b%e8%8f%8a%e5%8b%89%e5%bc%b7%e4%bc%9avol-9/
CATEGORIES:落語会
ATTACH;FMTTYPE=image/jpeg:https://shinmatsublog.com/wp-content/uploads/2023/09/img_4393.jpg
END:VEVENT
BEGIN:VEVENT
DTSTART;TZID=Asia/Tokyo:20230621T140000
DTEND;TZID=Asia/Tokyo:20230621T170000
DTSTAMP:20260423T070800
CREATED:20230512T150145Z
LAST-MODIFIED:20230512T150145Z
UID:2711-1687356000-1687366800@shinmatsublog.com
SUMMARY:6/21(水)第41回恵比寿エコー寄席
DESCRIPTION:6/21(水)\n午後2時開演\n恵比寿エコー劇場（渋谷区東3-18-3　JR恵比寿駅西口より徒歩5分）\nチケット　03-5466-3322\n前売り開始5/22(月)\n全席自由2000円
URL:https://shinmatsublog.com/event/6-21%e6%b0%b4%e7%ac%ac41%e5%9b%9e%e6%81%b5%e6%af%94%e5%af%bf%e3%82%a8%e3%82%b3%e3%83%bc%e5%af%84%e5%b8%ad/
CATEGORIES:落語会
ATTACH;FMTTYPE=image/jpeg:https://shinmatsublog.com/wp-content/uploads/2023/05/img_4017-scaled.jpg
END:VEVENT
BEGIN:VEVENT
DTSTART;TZID=Asia/Tokyo:20230427T190000
DTEND;TZID=Asia/Tokyo:20230427T210000
DTSTAMP:20260423T070800
CREATED:20230410T021329Z
LAST-MODIFIED:20230410T021344Z
UID:2683-1682622000-1682629200@shinmatsublog.com
SUMMARY:4/27(木)古今亭雛菊勉強会　ひなべん
DESCRIPTION:開演19時\n前売2000円\n当日2500円\n光塾COMMON CONTACT並木町\nご予約　hinawoyoyaku@gmail.com
URL:https://shinmatsublog.com/event/4-27%e6%9c%a8%e5%8f%a4%e4%bb%8a%e4%ba%ad%e9%9b%9b%e8%8f%8a%e5%8b%89%e5%bc%b7%e4%bc%9a%e3%80%80%e3%81%b2%e3%81%aa%e3%81%b9%e3%82%93/
CATEGORIES:落語会
ATTACH;FMTTYPE=image/jpeg:https://shinmatsublog.com/wp-content/uploads/2023/04/img_3992.jpg
END:VEVENT
BEGIN:VEVENT
DTSTART;TZID=Asia/Tokyo:20221014T140000
DTEND;TZID=Asia/Tokyo:20221014T160000
DTSTAMP:20260423T070800
CREATED:20220608T025054Z
LAST-MODIFIED:20230925T112901Z
UID:1928-1665756000-1665763200@shinmatsublog.com
SUMMARY:10/14(土）お寺de落語in赤羽　大満寺
DESCRIPTION:開場　13：30\n開演　14：00\n出演　柳家花いち、古今亭志ん松、入船亭遊京\n木戸銭　予約1800円\n　　　　当日2000円\n会場　大満寺　東京都北区岩渕町35-7（赤羽岩淵駅3番出口からすぐ）\n予約　871official@gmail.com\n     070-8322-4454（留守電対応）
URL:https://shinmatsublog.com/event/7-9%e5%9c%9f%e7%ac%ac18%e5%9b%9e%e3%81%8a%e5%af%bade%e8%90%bd%e8%aa%9ein%e8%b5%a4%e7%be%bd%e3%80%80%e5%a4%a7%e6%ba%80%e5%af%ba/
CATEGORIES:落語会
END:VEVENT
BEGIN:VEVENT
DTSTART;TZID=Asia/Tokyo:20220630T183000
DTEND;TZID=Asia/Tokyo:20220630T210000
DTSTAMP:20260423T070800
CREATED:20220522T014006Z
LAST-MODIFIED:20220522T014234Z
UID:1858-1656613800-1656622800@shinmatsublog.com
SUMMARY:6/30(木)古今亭志ん雀独演会
DESCRIPTION:
URL:https://shinmatsublog.com/event/6-30%e5%8f%a4%e4%bb%8a%e4%ba%ad%e5%bf%97%e3%82%93%e9%9b%80%e7%8b%ac%e6%bc%94%e4%bc%9a/
CATEGORIES:落語会
ATTACH;FMTTYPE=image/jpeg:https://shinmatsublog.com/wp-content/uploads/2022/05/35B50C5B-2BCA-4DC4-B77B-9EED606E8B1F-scaled.jpeg
END:VEVENT
BEGIN:VEVENT
DTSTART;TZID=Asia/Tokyo:20220331T070000
DTEND;TZID=Asia/Tokyo:20220331T210000
DTSTAMP:20260423T070800
CREATED:20220224T020530Z
LAST-MODIFIED:20220224T020605Z
UID:1591-1648710000-1648760400@shinmatsublog.com
SUMMARY:3/31(木)第三回シン・マツラクゴ
DESCRIPTION:19時開演\n出演　古今亭志ん松だけ\n木戸　1500円\n会場　向島墨亭　東京都墨田区東向島1-10-1\n　　　東武スカイツリーライン　曳舟駅　徒歩8分\n予約　ticketbon@yahoo.co.jp
URL:https://shinmatsublog.com/event/3-31%e6%9c%a8%e7%ac%ac%e4%b8%89%e5%9b%9e%e3%82%b7%e3%83%b3%e3%83%bb%e3%83%9e%e3%83%84%e3%83%a9%e3%82%af%e3%82%b4/
CATEGORIES:落語会
END:VEVENT
BEGIN:VEVENT
DTSTART;TZID=Asia/Tokyo:20220311T190000
DTEND;TZID=Asia/Tokyo:20220311T210000
DTSTAMP:20260423T070800
CREATED:20220224T014623Z
LAST-MODIFIED:20220224T014717Z
UID:1585-1647025200-1647032400@shinmatsublog.com
SUMMARY:3/11(金)第三十八回　白酒ばなし
DESCRIPTION:白酒師匠のにぎわい座の会にお声がけいただきました！ \n詳細はこちらから
URL:https://shinmatsublog.com/event/3-11%e9%87%91%e7%ac%ac%e4%b8%89%e5%8d%81%e5%85%ab%e5%9b%9e%e3%80%80%e7%99%bd%e9%85%92%e3%81%b0%e3%81%aa%e3%81%97/
CATEGORIES:落語会
ATTACH;FMTTYPE=image/jpeg:https://shinmatsublog.com/wp-content/uploads/2022/02/bc027f6a2584108ced65fa0a968bda2e.jpg
END:VEVENT
BEGIN:VEVENT
DTSTART;TZID=Asia/Tokyo:20211216T190000
DTEND;TZID=Asia/Tokyo:20211216T210000
DTSTAMP:20260423T070800
CREATED:20211117T035132Z
LAST-MODIFIED:20211117T035132Z
UID:1368-1639681200-1639688400@shinmatsublog.com
SUMMARY:12/16(木)松子会
DESCRIPTION:出演　古今亭志ん松　林家なな子\n開演19時 \n木戸1500円 \n会場　向島墨亭 墨田区東向島1-10-20　曳舟駅より徒歩10分 \n予約　ticketbon@yahoo.co.jp
URL:https://shinmatsublog.com/event/12-16%e6%9c%a8%e6%9d%be%e5%ad%90%e4%bc%9a/
CATEGORIES:落語会
END:VEVENT
BEGIN:VEVENT
DTSTART;TZID=Asia/Tokyo:20210824T070000
DTEND;TZID=Asia/Tokyo:20210824T210000
DTSTAMP:20260423T070800
CREATED:20210714T004234Z
LAST-MODIFIED:20210714T004234Z
UID:965-1629788400-1629838800@shinmatsublog.com
SUMMARY:8/24　松子会
DESCRIPTION:出演　古今亭志ん松　林家なな子\n開演19時 \n木戸1500円 \n会場　向島墨亭 墨田区東向島1-10-20　曳舟駅より徒歩10分 \n予約　ticketbon@yahoo.co.jp
URL:https://shinmatsublog.com/event/8-24%e3%80%80%e6%9d%be%e5%ad%90%e4%bc%9a/
CATEGORIES:落語会
END:VEVENT
BEGIN:VEVENT
DTSTART;TZID=Asia/Tokyo:20210221T140000
DTEND;TZID=Asia/Tokyo:20210221T160000
DTSTAMP:20260423T070800
CREATED:20210113T112516Z
LAST-MODIFIED:20210203T054632Z
UID:320-1613916000-1613923200@shinmatsublog.com
SUMMARY:松子会
DESCRIPTION:緊急事態宣言の延長を受けて日程＆開演時間が変更になりました！– – – – –  \n出演：志ん松、なな子 \n料金：1\,500円 \n​※限定10名
URL:https://shinmatsublog.com/event/%e6%9d%be%e5%ad%90%e4%bc%9a/
LOCATION:向じま墨亭\, 墨田区東向島1丁目10-20\, 東京都\, 131-0032
CATEGORIES:落語会
ORGANIZER;CN="%E3%81%BC%E3%82%93%E3%81%8C":MAILTO:ticketbon@yahoo.co.jp
END:VEVENT
END:VCALENDAR